BEGIN:VCALENDAR
VERSION:2.0
PRODID:-//Kalamazoo Ringers - ECPv6.15.20//NONSGML v1.0//EN
CALSCALE:GREGORIAN
METHOD:PUBLISH
X-WR-CALNAME:Kalamazoo Ringers
X-ORIGINAL-URL:https://kalamazooringers.org
X-WR-CALDESC:Events for Kalamazoo Ringers
REFRESH-INTERVAL;VALUE=DURATION:PT1H
X-Robots-Tag:noindex
X-PUBLISHED-TTL:PT1H
BEGIN:VTIMEZONE
TZID:America/Detroit
BEGIN:DAYLIGHT
TZOFFSETFROM:-0500
TZOFFSETTO:-0400
TZNAME:EDT
DTSTART:20250309T070000
END:DAYLIGHT
BEGIN:STANDARD
TZOFFSETFROM:-0400
TZOFFSETTO:-0500
TZNAME:EST
DTSTART:20251102T060000
END:STANDARD
BEGIN:DAYLIGHT
TZOFFSETFROM:-0500
TZOFFSETTO:-0400
TZNAME:EDT
DTSTART:20260308T070000
END:DAYLIGHT
BEGIN:STANDARD
TZOFFSETFROM:-0400
TZOFFSETTO:-0500
TZNAME:EST
DTSTART:20261101T060000
END:STANDARD
BEGIN:DAYLIGHT
TZOFFSETFROM:-0500
TZOFFSETTO:-0400
TZNAME:EDT
DTSTART:20270314T070000
END:DAYLIGHT
BEGIN:STANDARD
TZOFFSETFROM:-0400
TZOFFSETTO:-0500
TZNAME:EST
DTSTART:20271107T060000
END:STANDARD
END:VTIMEZONE
BEGIN:VEVENT
DTSTART;TZID=America/Detroit:20260423T190000
DTEND;TZID=America/Detroit:20260423T210000
DTSTAMP:20260423T014249
CREATED:20260304T211940Z
LAST-MODIFIED:20260304T213506Z
UID:4100-1776970800-1776978000@kalamazooringers.org
SUMMARY:Kalamazoo Ringers concert at Messiah Evangelical Lutheran Church
DESCRIPTION:Download to share! \nJoin us for this concert as the Kalamazoo Ringers go on tour! We’ll be performing at the Messiah Evangelical Lutheran Church in Bay City\, Michigan. \nThe concert will feature the Kalamazoo Ringers performing on seven octaves of handbells and six octaves of handchimes. Our repertoire will charm and fascinate you! \nAnd after the concert\, you’re welcome to come down to where we are to meet us. If you’re interested\, you can also get an up-close look at the bells and chimes as well! \nA freewill offering will be taken.
URL:https://kalamazooringers.org/event/kalamazoo-ringers-concert-at-messiah-evangelical-lutheran-church/
LOCATION:Messiah Evangelical Lutheran Church\, 501 S. Catherine Street\, Bay City\, MI\, 48706\, United States
END:VEVENT
END:VCALENDAR